BEGIN:VCALENDAR
VERSION:2.0
PRODID:-//hacksw/handcal//NONSGML v1.0//EN
BEGIN:VEVENT
SUMMARY:Yoga
UID:9e44efda-c4cf-4ee2-9b33-b2b42598c130
DTSTART:20260527T220000Z
DTEND:20260528T220000Z
LOCATION:Localisation   
CATEGORIES:Sportif
STATUS:
DESCRIPTION:<p>la seance de Yoga du jeudi est animee par Odile,
 benevole.</p>
URL;VALUE=URI:https://www.muscufitnesspaimpol.fr/evenements/2026/05/28/yoga-2438871
END:VEVENT
END:VCALENDAR
