BEGIN:VCALENDAR
VERSION:2.0
PRODID:-//hacksw/handcal//NONSGML v1.0//EN
BEGIN:VEVENT
SUMMARY:Fit'Kids, Bodybarre, Cardio step et zumba fitness
UID:2d037524-72fc-48f5-a48a-56181b1454b2
DTSTART:20260527T220000Z
DTEND:20260528T220000Z
LOCATION:Localisation   
CATEGORIES:Sportif
STATUS:
DESCRIPTION:<p>Les cours sont assures par Marion, educatrice
 sportive.</p>
 
 <p><strong><span style="font-size:10pt;">Planning des
 cours collectifs et tarifs</span></strong> :  <strong><a
 href="https://www.muscufitnesspaimpol.fr/saison-2025-2026/documents"
 target="_blank" rel="noreferrer noopener"><font color="#ff0000"><span
 style="font-size:10pt;">c'est ici</span></font></a></strong></p>
URL;VALUE=URI:https://www.muscufitnesspaimpol.fr/evenements/2026/05/28/fitkids-bodybarre-cardio-step-et-zumba-fitness-2438867
END:VEVENT
END:VCALENDAR
