BEGIN:VCALENDAR
VERSION:2.0
PRODID:-//hacksw/handcal//NONSGML v1.0//EN
BEGIN:VEVENT
SUMMARY:Circuit training, Gym Tonic, stretching
UID:36f44ee4-e20b-4800-804f-2f4e3de8bc5a
DTSTART:20260526T220000Z
DTEND:20260527T220000Z
LOCATION:Localisation   
CATEGORIES:Sportif
STATUS:
DESCRIPTION:<p>Les cours sont assures par Baptiste, educateur
 sportif.</p>
 
 <p><strong><span style="font-size:10pt;">Planning des
 cours collectifs et tarifs</span></strong> :  <strong><a
 href="https://www.muscufitnesspaimpol.fr/saison-2025-2026/documents"
 target="_blank" rel="noreferrer noopener"><font color="#ff0000"><span
 style="font-size:10pt;">c'est
 ici</span></font></a></strong></p>
 
 <p> </p>
URL;VALUE=URI:https://www.muscufitnesspaimpol.fr/evenements/2026/05/27/circuit-training-gym-tonic-stretching-2438853
END:VEVENT
END:VCALENDAR
