BEGIN:VCALENDAR
VERSION:2.0
PRODID:-//hacksw/handcal//NONSGML v1.0//EN
BEGIN:VEVENT
SUMMARY:Marche en groupe a 14h
UID:db0da50e-7c8c-417e-8e87-f00be50c025b
DTSTART:20260525T220000Z
DTEND:20260526T220000Z
LOCATION:Localisation   
CATEGORIES:Sportif
STATUS:
DESCRIPTION:<p>Ceux ou celles qui le souhaitent peuvent se retrouver
 a la salle du CMP pour une marche en groupe (depart 14h).</p>
URL;VALUE=URI:https://www.muscufitnesspaimpol.fr/evenements/2026/05/26/marche-en-groupe-a-14h-2438846
END:VEVENT
END:VCALENDAR
