BEGIN:VCALENDAR
VERSION:2.0
PRODID:-//hacksw/handcal//NONSGML v1.0//EN
BEGIN:VEVENT
SUMMARY:gym d'entretien, circuit training, stretching, cardio-renfo, swissball
UID:17425e6c-e4f7-4bd5-b83f-a2838b36f1de
DTSTART:20260524T220000Z
DTEND:20260525T220000Z
LOCATION:Localisation   
CATEGORIES:Sportif
STATUS:
DESCRIPTION:<p>Les cours sont assures par Baptiste, educateur
 sportif.</p>
 
 <p><strong><span style="font-size:10pt;">Planning des
 cours collectifs et tarifs</span></strong> :  <strong><a
 href="https://www.muscufitnesspaimpol.fr/saison-2025-2026/documents"
 target="_blank" rel="noreferrer noopener"><font color="#ff0000"><span
 style="font-size:10pt;">c'est ici</span></font></a></strong></p>
URL;VALUE=URI:https://www.muscufitnesspaimpol.fr/evenements/2026/05/25/gym-dentretien-circuit-training-stretching-cardio-renfo-swissball-2438832
END:VEVENT
END:VCALENDAR
