BEGIN:VCALENDAR
VERSION:2.0
PRODID:-//hacksw/handcal//NONSGML v1.0//EN
BEGIN:VEVENT
SUMMARY:Yoga
UID:9c36df23-1c69-48d0-a2df-57fdfcb452e7
DTSTART:20260520T220000Z
DTEND:20260521T220000Z
LOCATION:Localisation   
CATEGORIES:Sportif
STATUS:
DESCRIPTION:<p>la seance de Yoga du jeudi est animee par Odile,
 benevole.</p>
URL;VALUE=URI:https://www.muscufitnesspaimpol.fr/evenements/2026/05/21/yoga-2438870
END:VEVENT
END:VCALENDAR
