BEGIN:VCALENDAR
VERSION:2.0
PRODID:-//hacksw/handcal//NONSGML v1.0//EN
BEGIN:VEVENT
SUMMARY:Marche en groupe a 14h
UID:c62a0980-e71e-4d89-b4f7-2c4e74b6a4e9
DTSTART:20260518T220000Z
DTEND:20260519T220000Z
LOCATION:Localisation   
CATEGORIES:Sportif
STATUS:
DESCRIPTION:<p>Ceux ou celles qui le souhaitent peuvent se retrouver
 a la salle du CMP pour une marche en groupe (depart 14h).</p>
URL;VALUE=URI:https://www.muscufitnesspaimpol.fr/evenements/2026/05/19/marche-en-groupe-a-14h-2438847
END:VEVENT
END:VCALENDAR
