BEGIN:VCALENDAR
VERSION:2.0
PRODID:-//hacksw/handcal//NONSGML v1.0//EN
BEGIN:VEVENT
SUMMARY:Yoga
UID:27fb7049-0622-4f50-b274-be5f46d163bc
DTSTART:20260517T220000Z
DTEND:20260518T220000Z
LOCATION:Localisation   
CATEGORIES:Sportif
STATUS:
DESCRIPTION:<p>Les cours sont assures par Florence,
 benevole.</p>
 
 <p><strong><span style="font-size:10pt;">Planning des
 cours collectifs et tarifs</span></strong> :  <strong><a
 href="https://www.muscufitnesspaimpol.fr/saison-2025-2026/documents"
 target="_blank" rel="noreferrer noopener"><font color="#ff0000"><span
 style="font-size:10pt;">c'est ici</span></font></a></strong></p>
URL;VALUE=URI:https://www.muscufitnesspaimpol.fr/evenements/2026/05/18/yoga-2438825
END:VEVENT
END:VCALENDAR
