BEGIN:VCALENDAR
VERSION:2.0
PRODID:-//hacksw/handcal//NONSGML v1.0//EN
BEGIN:VEVENT
SUMMARY:Zumba fitness, Strong nation
UID:8991176c-c47b-47f5-a05f-4217601931f4
DTSTART:20260515T220000Z
DTEND:20260516T220000Z
LOCATION:Localisation   
CATEGORIES:Sportif
STATUS:
DESCRIPTION:<p>Les cours sont assures par Marion, educatrice
 sportive.</p>
 
 <p><strong><span style="font-size:10pt;">Planning des
 cours collectifs et tarifs</span></strong> :  <strong><a
 href="https://www.muscufitnesspaimpol.fr/saison-2025-2026/documents"
 target="_blank" rel="noreferrer noopener"><font color="#ff0000"><span
 style="font-size:10pt;">c'est ici</span></font></a></strong></p>
URL;VALUE=URI:https://www.muscufitnesspaimpol.fr/evenements/2026/05/16/zumba-fitness-strong-nation-2438882
END:VEVENT
END:VCALENDAR
