BEGIN:VCALENDAR
VERSION:2.0
PRODID:-//hacksw/handcal//NONSGML v1.0//EN
BEGIN:VEVENT
SUMMARY:Jour ferie : pas de cours collectifs
UID:58330ed3-88e9-48ce-a27e-2e6c88fd33bd
DTSTART:20260513T220000Z
DTEND:20260514T220000Z
LOCATION:Localisation   
CATEGORIES:Sportif
STATUS:
URL;VALUE=URI:https://www.muscufitnesspaimpol.fr/evenements/2026/05/14/jour-ferie-pas-de-cours-collectifs-2438884
END:VEVENT
END:VCALENDAR
