BEGIN:VCALENDAR
VERSION:2.0
PRODID:-//hacksw/handcal//NONSGML v1.0//EN
BEGIN:VEVENT
SUMMARY:Marche en groupe a 14h
UID:f013095e-6fc5-4669-93b5-1ba9edd40741
DTSTART:20260511T220000Z
DTEND:20260512T220000Z
LOCATION:Localisation   
CATEGORIES:Sportif
STATUS:
DESCRIPTION:<p>Ceux ou celles qui le souhaitent peuvent se retrouver
 a la salle du CMP pour une marche en groupe (depart 14h).</p>
URL;VALUE=URI:https://www.muscufitnesspaimpol.fr/evenements/2026/05/12/marche-en-groupe-a-14h-2438848
END:VEVENT
END:VCALENDAR
