BEGIN:VCALENDAR
VERSION:2.0
PRODID:-//hacksw/handcal//NONSGML v1.0//EN
BEGIN:VEVENT
SUMMARY:Cicuit training, Pilates, Cross Training
UID:3bf1ece8-586a-42ee-8555-d0eabc40d901
DTSTART:20260511T220000Z
DTEND:20260512T220000Z
LOCATION:Localisation   
CATEGORIES:Sportif
STATUS:
DESCRIPTION:<p>Les cours sont assures par Gwendolinn, educatrice
 sportive.</p>
 
 <p><strong>Planning des cours collectifs et tarifs :
 <a
 href="https://www.muscufitnesspaimpol.fr/saison-2025-2026/documents"
 target="_blank" rel="noreferrer noopener"><span
 style="color:#ff0000;">c'est ici</span></a></strong></p>
 
 <p> </p>
URL;VALUE=URI:https://www.muscufitnesspaimpol.fr/evenements/2026/05/12/cicuit-training-pilates-cross-training-2438841
END:VEVENT
END:VCALENDAR
