BEGIN:VCALENDAR
VERSION:2.0
PRODID:-//hacksw/handcal//NONSGML v1.0//EN
BEGIN:VEVENT
SUMMARY:Jour ferie : pas de cours collectifs
UID:d426d86c-8ea0-4c9f-be10-6d9d2e7822fb
DTSTART:20260507T220000Z
DTEND:20260508T220000Z
LOCATION:Localisation   
CATEGORIES:Sportif
STATUS:
URL;VALUE=URI:https://www.muscufitnesspaimpol.fr/evenements/2026/05/08/jour-ferie-pas-de-cours-collectifs-2438886
END:VEVENT
END:VCALENDAR
