BEGIN:VCALENDAR
VERSION:2.0
PRODID:-//hacksw/handcal//NONSGML v1.0//EN
BEGIN:VEVENT
SUMMARY:Yoga
UID:34e355fe-581b-496a-b899-33518d325bdf
DTSTART:20260506T220000Z
DTEND:20260507T220000Z
LOCATION:Localisation   
CATEGORIES:Sportif
STATUS:
DESCRIPTION:<p>la seance de Yoga du jeudi est animee par Odile,
 benevole.</p>
URL;VALUE=URI:https://www.muscufitnesspaimpol.fr/evenements/2026/05/07/yoga-2438873
END:VEVENT
END:VCALENDAR
