BEGIN:VCALENDAR
VERSION:2.0
PRODID:-//hacksw/handcal//NONSGML v1.0//EN
BEGIN:VEVENT
SUMMARY:Marche en groupe a 14h
UID:db299e37-eddb-4e6e-a1d4-c40381f24153
DTSTART:20260427T220000Z
DTEND:20260428T220000Z
LOCATION:Localisation   
CATEGORIES:Sportif
STATUS:
DESCRIPTION:<p>Ceux ou celles qui le souhaitent peuvent se retrouver
 a la salle du CMP pour une marche en groupe (depart 14h).</p>
URL;VALUE=URI:https://www.muscufitnesspaimpol.fr/evenements/2026/04/28/marche-en-groupe-a-14h-2438849
END:VEVENT
END:VCALENDAR
