BEGIN:VCALENDAR
VERSION:2.0
PRODID:-//hacksw/handcal//NONSGML v1.0//EN
BEGIN:VEVENT
SUMMARY:Gwen est absente
UID:a4e86c68-4ffb-4095-a801-f282fcc6908f
DTSTART:20260427T220000Z
DTEND:20260428T220000Z
LOCATION:Localisation   
CATEGORIES:Sportif
STATUS:
URL;VALUE=URI:https://www.muscufitnesspaimpol.fr/evenements/2026/04/28/gwen-est-absente-2439092
END:VEVENT
END:VCALENDAR
