BEGIN:VCALENDAR
VERSION:2.0
PRODID:-//hacksw/handcal//NONSGML v1.0//EN
BEGIN:VEVENT
SUMMARY:Gwen est absente les 14 et 28 avril
UID:0864a490-5b7a-4cfa-bb39-e5ee9050d277
DTSTART:20260413T220000Z
DTEND:20260414T220000Z
LOCATION:Localisation   
CATEGORIES:Sportif
STATUS:
URL;VALUE=URI:https://www.muscufitnesspaimpol.fr/evenements/2026/04/14/gwen-est-absente-les-14-et-28-avril-2439091
END:VEVENT
END:VCALENDAR
